Workbook

Sheet ÍNDICE 
A2: ÍNDICE DE TABULADOS IX EPF - INSTITUTO NACIONAL DE ESTADISTICAS
A4: CUADRO 1A | B4: ='CUADRO 1A'!$A$2 -> POBLACIÓN TOTAL SEGÚN EDAD, NIVEL EDUCACIONAL, SI ESTUDIA ACTUALMENTE Y LA DEPENDENCIA DEL ESTABLECIMIENTO EDUCACIONAL, POR SEXO Y QUINTIL DE HOGARES ORDENADOS DE ACUERDO AL INGRESO DISPONIBLE PER CÁPITA PROMEDIO MENSUAL DEL HOGAR. TOTAL CAPITALES REGIONALES (EXCLUYE ARRIENDO IMPUTADO)
A5: CUADRO 1B | B5: ='CUADRO 1B'!$A$2 -> POBLACIÓN TOTAL SEGÚN EDAD, NIVEL EDUCACIONAL, SI ESTUDIA ACTUALMENTE Y LA DEPENDENCIA DEL ESTABLECIMIENTO EDUCACIONAL, POR SEXO Y QUINTIL DE HOGARES ORDENADOS DE ACUERDO AL INGRESO DISPONIBLE PER CÁPITA PROMEDIO MENSUAL DEL HOGAR. MACROZONA NORTE (EXCLUYE ARRIENDO IMPUTADO)
A6: CUADRO 1C | B6: ='CUADRO 1C'!$A$2 -> POBLACIÓN TOTAL SEGÚN EDAD, NIVEL EDUCACIONAL, SI ESTUDIA ACTUALMENTE Y LA DEPENDENCIA DEL ESTABLECIMIENTO EDUCACIONAL, POR SEXO Y QUINTIL DE HOGARES ORDENADOS DE ACUERDO AL INGRESO DISPONIBLE PER CÁPITA PROMEDIO MENSUAL DEL HOGAR. GRAN SANTIAGO (EXCLUYE ARRIENDO IMPUTADO)
A7: CUADRO 1D | B7: ='CUADRO 1D'!$A$2 -> POBLACIÓN TOTAL SEGÚN EDAD, NIVEL EDUCACIONAL, SI ESTUDIA ACTUALMENTE Y LA DEPENDENCIA DEL ESTABLECIMIENTO EDUCACIONAL, POR SEXO Y QUINTIL DE HOGARES ORDENADOS DE ACUERDO AL INGRESO DISPONIBLE PER CÁPITA PROMEDIO MENSUAL DEL HOGAR. MACROZONA CENTRO (EXCLUYE ARRIENDO IMPUTADO)
A8: CUADRO 1E | B8: ='CUADRO 1E'!$A$2 -> POBLACIÓN TOTAL SEGÚN EDAD, NIVEL EDUCACIONAL, SI ESTUDIA ACTUALMENTE Y LA DEPENDENCIA DEL ESTABLECIMIENTO EDUCACIONAL, POR SEXO Y QUINTIL DE HOGARES ORDENADOS DE ACUERDO AL INGRESO DISPONIBLE PER CÁPITA PROMEDIO MENSUAL DEL HOGAR. MACROZONA SUR (EXCLUYE ARRIENDO IMPUTADO)
A9: CUADRO 2A | B9: ='CUADRO 2A'!$A$2 -> INGRESO DISPONIBLE Y GASTO PROMEDIO MENSUAL DEL HOGAR Y PER CÁPITA, SEGÚN CARACTERÍSTICAS DE PERSONA SUSTENTADORA PRINCIPAL Y DEL HOGAR (SEXO, EDAD, NIVEL EDUCACIONAL, CATEGORÍA OCUPACIONAL, TENENCIA DE LA VIVIENDA, TIPO DE VIVIENDA, SITUACIÓN PREVISIONAL Y DE SALUD Y NÚMERO DE PERSONAS EN EL HOGAR). TOTAL CAPITALES REGIONALES (EXCLUYE ARRIENDO IMPUTADO)
A10: CUADRO 2B | B10: ='CUADRO 2B'!$A$2 -> INGRESO DISPONIBLE Y GASTO PROMEDIO MENSUAL DEL HOGAR Y PER CÁPITA, SEGÚN CARACTERÍSTICAS DE PERSONA SUSTENTADORA PRINCIPAL Y DEL HOGAR (SEXO, EDAD, NIVEL EDUCACIONAL, CATEGORÍA OCUPACIONAL, TENENCIA DE LA VIVIENDA, TIPO DE VIVIENDA, SITUACIÓN PREVISIONAL Y DE SALUD Y NÚMERO DE PERSONAS EN EL HOGAR). MACROZONA NORTE (EXCLUYE ARRIENDO IMPUTADO)
A11: CUADRO 2C | B11: ='CUADRO 2C'!$A$2 -> INGRESO DISPONIBLE Y GASTO PROMEDIO MENSUAL DEL HOGAR Y PER CÁPITA, SEGÚN CARACTERÍSTICAS DE PERSONA SUSTENTADORA PRINCIPAL Y DEL HOGAR (SEXO, EDAD, NIVEL EDUCACIONAL, CATEGORÍA OCUPACIONAL, TENENCIA DE LA VIVIENDA, TIPO DE VIVIENDA, SITUACIÓN PREVISIONAL Y DE SALUD Y NÚMERO DE PERSONAS EN EL HOGAR). GRAN SANTIAGO (EXCLUYE ARRIENDO IMPUTADO)
A12: CUADRO 2D | B12: ='CUADRO 2D'!$A$2 -> INGRESO DISPONIBLE Y GASTO PROMEDIO MENSUAL DEL HOGAR Y PER CÁPITA, SEGÚN CARACTERÍSTICAS DE PERSONA SUSTENTADORA PRINCIPAL Y DEL HOGAR (SEXO, EDAD, NIVEL EDUCACIONAL, CATEGORÍA OCUPACIONAL, TENENCIA DE LA VIVIENDA, TIPO DE VIVIENDA, SITUACIÓN PREVISIONAL Y DE SALUD Y NÚMERO DE PERSONAS EN EL HOGAR). MACROZONA CENTRO (EXCLUYE ARRIENDO IMPUTADO)
A13: CUADRO 2E | B13: ='CUADRO 2E'!$A$2 -> INGRESO DISPONIBLE Y GASTO PROMEDIO MENSUAL DEL HOGAR Y PER CÁPITA, SEGÚN CARACTERÍSTICAS DE PERSONA SUSTENTADORA PRINCIPAL Y DEL HOGAR (SEXO, EDAD, NIVEL EDUCACIONAL, CATEGORÍA OCUPACIONAL, TENENCIA DE LA VIVIENDA, TIPO DE VIVIENDA, SITUACIÓN PREVISIONAL Y DE SALUD Y NÚMERO DE PERSONAS EN EL HOGAR). MACROZONA SUR (EXCLUYE ARRIENDO IMPUTADO)
A14: CUADRO 3A | B14: ='CUADROS 3A - 3E'!$A$2 -> HOGARES, PERSONAS, GASTO E INGRESO DISPONIBLE PROMEDIO MENSUAL DEL HOGAR Y PER CÁPITA, SEGÚN QUINTIL DE HOGARES ORDENADOS DE ACUERDO AL INGRESO DISPONIBLE PROMEDIO MENSUAL DEL HOGAR. TOTAL CAPITALES REGIONALES (EXCLUYE ARRIENDO IMPUTADO)
A15: CUADRO 3B | B15: ='CUADROS 3A - 3E'!$A$22 -> HOGARES, PERSONAS, GASTO E INGRESO DISPONIBLE PROMEDIO MENSUAL DEL HOGAR Y PER CÁPITA, SEGÚN QUINTIL DE HOGARES ORDENADOS DE ACUERDO AL INGRESO DISPONIBLE PROMEDIO MENSUAL DEL HOGAR. MACROZONA NORTE (EXCLUYE ARRIENDO IMPUTADO)
A16: CUADRO 3C | B16: ='CUADROS 3A - 3E'!$A$42 -> HOGARES, PERSONAS, GASTO E INGRESO DISPONIBLE PROMEDIO MENSUAL DEL HOGAR Y PER CÁPITA, SEGÚN QUINTIL DE HOGARES ORDENADOS DE ACUERDO AL INGRESO DISPONIBLE PROMEDIO MENSUAL DEL HOGAR. GRAN SANTIAGO (EXCLUYE ARRIENDO IMPUTADO)
A17: CUADRO 3D | B17: ='CUADROS 3A - 3E'!$A$62 -> HOGARES, PERSONAS, GASTO E INGRESO DISPONIBLE PROMEDIO MENSUAL DEL HOGAR Y PER CÁPITA, SEGÚN QUINTIL DE HOGARES ORDENADOS DE ACUERDO AL INGRESO DISPONIBLE PROMEDIO MENSUAL DEL HOGAR. MACROZONA CENTRO (EXCLUYE ARRIENDO IMPUTADO)
A18: CUADRO 3E | B18: ='CUADROS 3A - 3E'!$A$82 -> HOGARES, PERSONAS, GASTO E INGRESO DISPONIBLE PROMEDIO MENSUAL DEL HOGAR Y PER CÁPITA, SEGÚN QUINTIL DE HOGARES ORDENADOS DE ACUERDO AL INGRESO DISPONIBLE PROMEDIO MENSUAL DEL HOGAR. MACROZONA SUR (EXCLUYE ARRIENDO IMPUTADO)
A19: CUADRO 3F | B19: ='CUADROS 3F - 3J'!$A$2 -> HOGARES, PERSONAS, GASTO E INGRESO DISPONIBLE PROMEDIO MENSUAL DEL HOGAR Y PER CÁPITA, SEGÚN QUINTIL DE HOGARES ORDENADOS DE ACUERDO AL INGRESO DISPONIBLE PROMEDIO MENSUAL DEL HOGAR. TOTAL CAPITALES REGIONALES (INCLUYE ARRIENDO IMPUTADO)
A20: CUADRO 3G | B20: ='CUADROS 3F - 3J'!$A$22 -> HOGARES, PERSONAS, GASTO E INGRESO DISPONIBLE PROMEDIO MENSUAL DEL HOGAR Y PER CÁPITA, SEGÚN QUINTIL DE HOGARES ORDENADOS DE ACUERDO AL INGRESO DISPONIBLE PROMEDIO MENSUAL DEL HOGAR. MACROZONA NORTE (INCLUYE ARRIENDO IMPUTADO)
A21: CUADRO 3H | B21: ='CUADROS 3F - 3J'!$A$42 -> HOGARES, PERSONAS, GASTO E INGRESO DISPONIBLE PROMEDIO MENSUAL DEL HOGAR Y PER CÁPITA, SEGÚN QUINTIL DE HOGARES ORDENADOS DE ACUERDO AL INGRESO DISPONIBLE PROMEDIO MENSUAL DEL HOGAR. GRAN SANTIAGO (INCLUYE ARRIENDO IMPUTADO)
A22: CUADRO 3I | B22: ='CUADROS 3F - 3J'!$A$62 -> HOGARES, PERSONAS, GASTO E INGRESO DISPONIBLE PROMEDIO MENSUAL DEL HOGAR Y PER CÁPITA, SEGÚN QUINTIL DE HOGARES ORDENADOS DE ACUERDO AL INGRESO DISPONIBLE PROMEDIO MENSUAL DEL HOGAR. MACROZONA CENTRO (INCLUYE ARRIENDO IMPUTADO)
A23: CUADRO 3J | B23: ='CUADROS 3F - 3J'!$A$82 -> HOGARES, PERSONAS, GASTO E INGRESO DISPONIBLE PROMEDIO MENSUAL DEL HOGAR Y PER CÁPITA, SEGÚN QUINTIL DE HOGARES ORDENADOS DE ACUERDO AL INGRESO DISPONIBLE PROMEDIO MENSUAL DEL HOGAR. MACROZONA SUR (INCLUYE ARRIENDO IMPUTADO)
A24: CUADRO 4A | B24: ='CUADROS 4A - 4E'!$A$2 -> HOGARES, PERSONAS, GASTO E INGRESO DISPONIBLE PROMEDIO MENSUAL DEL HOGAR Y PER CÁPITA, SEGÚN QUINTIL DE HOGARES ORDENADOS DE ACUERDO AL INGRESO DISPONIBLE PER CÁPITA PROMEDIO MENSUAL DEL HOGAR. TOTAL CAPITALES REGIONALES (EXCLUYE ARRIENDO IMPUTADO)
A25: CUADRO 4B | B25: ='CUADROS 4A - 4E'!$A$22 -> HOGARES, PERSONAS, GASTO E INGRESO DISPONIBLE PROMEDIO MENSUAL DEL HOGAR Y PER CÁPITA, SEGÚN QUINTIL DE HOGARES ORDENADOS DE ACUERDO AL INGRESO DISPONIBLE PER CÁPITA PROMEDIO MENSUAL DEL HOGAR. MACROZONA NORTE (EXCLUYE ARRIENDO IMPUTADO)
A26: CUADRO 4C | B26: ='CUADROS 4A - 4E'!$A$42 -> HOGARES, PERSONAS, GASTO E INGRESO DISPONIBLE PROMEDIO MENSUAL DEL HOGAR Y PER CÁPITA, SEGÚN QUINTIL DE HOGARES ORDENADOS DE ACUERDO AL INGRESO DISPONIBLE PER CÁPITA PROMEDIO MENSUAL DEL HOGAR. GRAN SANTIAGO (EXCLUYE ARRIENDO IMPUTADO)
A27: CUADRO 4D | B27: ='CUADROS 4A - 4E'!$A$62 -> HOGARES, PERSONAS, GASTO E INGRESO DISPONIBLE PROMEDIO MENSUAL DEL HOGAR Y PER CÁPITA, SEGÚN QUINTIL DE HOGARES ORDENADOS DE ACUERDO AL INGRESO DISPONIBLE PER CÁPITA PROMEDIO MENSUAL DEL HOGAR. MACROZONA CENTRO (EXCLUYE ARRIENDO IMPUTADO)
A28: CUADRO 4E | B28: ='CUADROS 4A - 4E'!$A$82 -> HOGARES, PERSONAS, GASTO E INGRESO DISPONIBLE PROMEDIO MENSUAL DEL HOGAR Y PER CÁPITA, SEGÚN QUINTIL DE HOGARES ORDENADOS DE ACUERDO AL INGRESO DISPONIBLE PER CÁPITA PROMEDIO MENSUAL DEL HOGAR. MACROZONA SUR (EXCLUYE ARRIENDO IMPUTADO)
A29: CUADRO 4F | B29: ='CUADROS 4F - 4J'!$A$2 -> HOGARES, PERSONAS, GASTO E INGRESO DISPONIBLE PROMEDIO MENSUAL DEL HOGAR Y PER CÁPITA, SEGÚN QUINTIL DE HOGARES ORDENADOS DE ACUERDO AL INGRESO DISPONIBLE PER CÁPITA PROMEDIO MENSUAL DEL HOGAR. TOTAL CAPITALES REGIONALES (INCLUYE ARRIENDO IMPUTADO)
A30: CUADRO 4G | B30: ='CUADROS 4F - 4J'!$A$22 -> HOGARES, PERSONAS, GASTO E INGRESO DISPONIBLE PROMEDIO MENSUAL DEL HOGAR Y PER CÁPITA, SEGÚN QUINTIL DE HOGARES ORDENADOS DE ACUERDO AL INGRESO DISPONIBLE PER CÁPITA PROMEDIO MENSUAL DEL HOGAR. MACROZONA NORTE (INCLUYE ARRIENDO IMPUTADO)
A31: CUADRO 4H | B31: ='CUADROS 4F - 4J'!$A$42 -> HOGARES, PERSONAS, GASTO E INGRESO DISPONIBLE PROMEDIO MENSUAL DEL HOGAR Y PER CÁPITA, SEGÚN QUINTIL DE HOGARES ORDENADOS DE ACUERDO AL INGRESO DISPONIBLE PER CÁPITA PROMEDIO MENSUAL DEL HOGAR. GRAN SANTIAGO (INCLUYE ARRIENDO IMPUTADO)
A32: CUADRO 4I | B32: ='CUADROS 4F - 4J'!$A$62 -> HOGARES, PERSONAS, GASTO E INGRESO DISPONIBLE PROMEDIO MENSUAL DEL HOGAR Y PER CÁPITA, SEGÚN QUINTIL DE HOGARES ORDENADOS DE ACUERDO AL INGRESO DISPONIBLE PER CÁPITA PROMEDIO MENSUAL DEL HOGAR. MACROZONA CENTRO (INCLUYE ARRIENDO IMPUTADO)
A33: CUADRO 4J | B33: ='CUADROS 4F - 4J'!$A$82 -> HOGARES, PERSONAS, GASTO E INGRESO DISPONIBLE PROMEDIO MENSUAL DEL HOGAR Y PER CÁPITA, SEGÚN QUINTIL DE HOGARES ORDENADOS DE ACUERDO AL INGRESO DISPONIBLE PER CÁPITA PROMEDIO MENSUAL DEL HOGAR. MACROZONA SUR (INCLUYE ARRIENDO IMPUTADO)
A34: CUADRO 5A | B34: ='CUADROS 5A - 5E'!$A$2 -> GASTO PROMEDIO MENSUAL Y ESTRUCTURA DEL GASTO PROMEDIO MENSUAL POR HOGAR, SEGÚN DIVISIÓN Y QUINTIL DE HOGARES ORDENADOS DE ACUERDO AL INGRESO DISPONIBLE PROMEDIO MENSUAL DEL HOGAR. TOTAL CAPITALES REGIONALES (EXCLUYE ARRIENDO IMPUTADO)
A35: CUADRO 5B | B35: ='CUADROS 5A - 5E'!$A$31 -> GASTO PROMEDIO MENSUAL Y ESTRUCTURA DEL GASTO PROMEDIO MENSUAL POR HOGAR, SEGÚN DIVISIÓN Y QUINTIL DE HOGARES ORDENADOS DE ACUERDO AL INGRESO DISPONIBLE PROMEDIO MENSUAL DEL HOGAR. MACROZONA NORTE(EXCLUYE ARRIENDO IMPUTADO)
A36: CUADRO 5C | B36: ='CUADROS 5A - 5E'!$A$60 -> GASTO PROMEDIO MENSUAL Y ESTRUCTURA DEL GASTO PROMEDIO MENSUAL POR HOGAR, SEGÚN DIVISIÓN Y QUINTIL DE HOGARES ORDENADOS DE ACUERDO AL INGRESO DISPONIBLE PROMEDIO MENSUAL DEL HOGAR. GRAN SANTIAGO(EXCLUYE ARRIENDO IMPUTADO)
A37: CUADRO 5D | B37: ='CUADROS 5A - 5E'!$A$89 -> GASTO PROMEDIO MENSUAL Y ESTRUCTURA DEL GASTO PROMEDIO MENSUAL POR HOGAR, SEGÚN DIVISIÓN Y QUINTIL DE HOGARES ORDENADOS DE ACUERDO AL INGRESO DISPONIBLE PROMEDIO MENSUAL DEL HOGAR. MACROZONA CENTRO(EXCLUYE ARRIENDO IMPUTADO)
A38: CUADRO 5E | B38: ='CUADROS 5A - 5E'!$A$118 -> GASTO PROMEDIO MENSUAL Y ESTRUCTURA DEL GASTO PROMEDIO MENSUAL POR HOGAR, SEGÚN DIVISIÓN Y QUINTIL DE HOGARES ORDENADOS DE ACUERDO AL INGRESO DISPONIBLE PROMEDIO MENSUAL DEL HOGAR. MACROZONA SUR(EXCLUYE ARRIENDO IMPUTADO)
A39: CUADRO 5F | B39: ='CUADROS 5F - 5J'!$A$2 -> GASTO PROMEDIO MENSUAL Y ESTRUCTURA DEL GASTO PROMEDIO MENSUAL POR HOGAR, SEGÚN DIVISIÓN Y QUINTIL DE HOGARES ORDENADOS DE ACUERDO AL INGRESO DISPONIBLE PER CÁPITA PROMEDIO MENSUAL DEL HOGAR. TOTAL CAPITALES REGIONALES (EXCLUYE ARRIENDO IMPUTADO)
A40: CUADRO 5G | B40: ='CUADROS 5F - 5J'!$A$31 -> GASTO PROMEDIO MENSUAL Y ESTRUCTURA DEL GASTO PROMEDIO MENSUAL POR HOGAR, SEGÚN DIVISIÓN Y QUINTIL DE HOGARES ORDENADOS DE ACUERDO AL INGRESO DISPONIBLE PER CÁPITA PROMEDIO MENSUAL DEL HOGAR. MACROZONA NORTE (EXCLUYE ARRIENDO IMPUTADO)
A41: CUADRO 5H | B41: ='CUADROS 5F - 5J'!$A$60 -> GASTO PROMEDIO MENSUAL Y ESTRUCTURA DEL GASTO PROMEDIO MENSUAL POR HOGAR, SEGÚN DIVISIÓN Y QUINTIL DE HOGARES ORDENADOS DE ACUERDO AL INGRESO DISPONIBLE PER CÁPITA PROMEDIO MENSUAL DEL HOGAR. GRAN SANTIAGO (EXCLUYE ARRIENDO IMPUTADO)
A42: CUADRO 5I | B42: ='CUADROS 5F - 5J'!$A$89 -> GASTO PROMEDIO MENSUAL Y ESTRUCTURA DEL GASTO PROMEDIO MENSUAL POR HOGAR, SEGÚN DIVISIÓN Y QUINTIL DE HOGARES ORDENADOS DE ACUERDO AL INGRESO DISPONIBLE PER CÁPITA PROMEDIO MENSUAL DEL HOGAR. MACROZONA CENTRO (EXCLUYE ARRIENDO IMPUTADO)
...

Sheet CUADRO 1A
A1: CUADRO 1A | J1: ÍNDICE
A2: POBLACIÓN TOTAL SEGÚN EDAD, NIVEL EDUCACIONAL, SI ESTUDIA ACTUALMENTE Y LA DEPENDENCIA DEL ESTABLECIMIENTO EDUCACIONAL, POR SEXO Y QUINTIL DE HOGARES ORDENADOS DE ACUERDO AL INGRESO DISPONIBLE PER CÁPITA PROMEDIO MENSUAL DEL HOGAR. TOTAL CAPITALES REGIONALES (EXCLUYE ARRIENDO IMPUTADO)
A4: CARACTERÍSTICAS DE LA POBLACIÓN | B4: TOTAL DE CAPITALES REGIONALES | G4: GRUPO QUINTIL(1)(2)
B5: TOTAL | C5: MUJERES | D5: HOMBRES | E5: I | F5: II | G5: III | H5: IV | I5: V
A7: GRUPOS DE EDAD /R
A8: TOTAL | B8: 13063825 | C8: 6647382.8 | D8: 6413453 | E8: 3197317.3 | F8: 2904540 | G8: 2597378.9 | H8: 2332266.6 | I8: 2032322.2
A9: 0 - 4 | B9: 662801.73 | C9: 307526.94 | D9: 355274.79 | E9: 239052.35 | F9: 148628.71 | G9: 100710.84 | H9: 87420.579 | I9: 86989.25
A10: 5 - 9 | B10: 852326.31 | C10: 407063.26 | D10: 445263.05 | E10: 285065.38 | F10: 198094.76 | G10: 157704.96 | H10: 117771.41 | I10: 93689.804
A11: 10 - 14 | B11: 906595.96 | C11: 401663.28 | D11: 504932.68 | E11: 331674.58 | F11: 225255.68 | G11: 140217.62 | H11: 111955.73 | I11: 97492.346
A12: 15 - 19 | B12: 956779.43 | C12: 440042.09 | D12: 516520.46 | E12: 315827.36 | F12: 231596.38 | G12: 180171.53 | H12: 133254.26 | I12: 95929.901
A13: 20 - 24 | B13: 1024400.9 | C13: 490836.54 | D13: 533564.39 | E13: 269275.11 | F13: 244449 | G13: 219692.29 | H13: 177979.68 | I13: 113004.85
A14: 25 - 29 | B14: 1027763.2 | C14: 491634.94 | D14: 535705.79 | E14: 221970.94 | F14: 218753.87 | G14: 205550.55 | H14: 212794.27 | I14: 168693.55
A15: 30 - 34 | B15: 1052200.4 | C15: 533213.1 | D15: 518875.63 | E15: 217607.8 | F15: 208380.95 | G15: 184897.45 | H15: 202654.65 | I15: 238659.59
A16: 35 - 39 | B16: 921157.73 | C16: 463007.69 | D16: 457061.98 | E16: 183386.13 | F16: 180693.34 | G16: 153313.69 | H16: 169661.58 | I16: 234103
A17: 40 - 44 | B17: 882068.59 | C17: 466030.18 | D17: 416038.42 | E17: 173252.83 | F17: 174718.41 | G17: 176679.05 | H17: 164570.37 | I17: 192847.93
A18: 45 - 49 | B18: 852736.58 | C18: 466136.27 | D18: 386600.31 | E18: 182929.84 | F18: 178557.94 | G18: 169688.81 | H18: 160132.17 | I18: 161427.83
A19: 50 - 54 | B19: 857542.14 | C19: 467160.94 | D19: 389903.5 | E19: 181302.53 | F19: 170650.32 | G19: 182110.76 | H19: 175868.29 | I19: 147610.23
... A25: 80 o MÁS | B25: 326819.46 | C25: 204967.51 | D25: 121851.95 | E25: 55658.719 | F25: 89437.376 | G25: 86323.48 | H25: 63977.646 | I25: 31422.236
A27: NIVEL EDUCACIONAL(3)
A28: TOTAL | B28: 13063825 | C28: 6647382.8 | D28: 6413453 | E28: 3197317.3 | F28: 2904540 | G28: 2597378.9 | H28: 2332266.6 | I28: 2032322.2
A29: NUNCA ASISTIÓ(4) | B29: 497409.67 | C29: 247399.16 | D29: 250010.51 | E29: 181391.64 | F29: 126855.16 | G29: 81495.596 | H29: 62936.815 | I29: 44730.46
A30: EDUCACIÓN DIFERENCIAL | B30: 76959.596 | C30: 25395.704 | D30: 51563.891 | E30: 30396.722 | F30: 19614.135 | G30: 16001.816 | H30: 9235.6574 | I30: 1711.2647
A31: EDUCACIÓN PREESCOLAR(5) | B31: 625013.37 | C31: 299153.21 | D31: 325860.17 | E31: 226634.14 | F31: 132563.48 | G31: 94526.466 | H31: 81678.293 | I31: 89610.993
A32: EDUCACIÓN BÁSICA | B32: 2492786.3 | C32: 1233593.4 | D32: 1258877.7 | E32: 890196.99 | F32: 647684.88 | G32: 473614.84 | H32: 310278.93 | I32: 171010.63
A33: EDUCACIÓN PRIMARIA (SISTEMA ANTIGUO) | B33: 313042.12 | C33: 191640.03 | D33: 121402.09 | E33: 74588.728 | F33: 109440.66 | G33: 80716.762 | H33: 38355.033 | I33: 9940.9328
A34: EDUCACIÓN MEDIA CIENTÍFICO HUMANISTA | B34: 2934474.6 | C34: 1473997.8 | D34: 1460327.9 | E34: 825738.17 | F34: 783297.37 | G34: 668786.6 | H34: 456318.73 | I34: 200333.77
A35: EDUCACIÓN MEDIA TÉCNICO PROFESIONAL | B35: 1318647.7 | C35: 656942.1 | D35: 661488.74 | E35: 391605.37 | F35: 356683.13 | G35: 293279.05 | H35: 197426.24 | I35: 79653.923
A36: EDUCACIÓN HUMANIDADES (SISTEMA ANTIGUO) | B36: 281365.85 | C36: 169493.13 | D36: 111872.73 | E36: 51095.212 | F36: 64251.255 | G36: 72446.967 | H36: 67851.097 | I36: 25721.323
A37: EDUCACIÓN TÉCNICA COMERCIAL, INDUSTRIAL O NORMALISTA (SISTEMA ANTIGUO) | B37: 54259.275 | C37: 28721.135 | D37: 25538.139 | E37: 5902.929 | F37: 9901.3424 | G37: 15823.25 | H37: 15194.879 | I37: 7436.8742
A38: EDUCACIÓN TÉCNICO SUPERIOR (MENOS DE 4 AÑOS) | B38: 1347831.4 | C38: 730435.16 | D38: 617396.24 | E38: 213474.64 | F38: 289055.78 | G38: 312841.45 | H38: 321193.29 | I38: 211266.25
A39: EDUCACIÓN PROFESIONAL (CARRERA DE 4 AÑOS O MÁS) | B39: 2627383.2 | C39: 1344449.1 | D39: 1282271.9 | E39: 288067.23 | F39: 346425.6 | G39: 451927.4 | H39: 672883.64 | I39: 868079.28
... A41: MAGÍSTER (DE UN AÑO O MÁS) | B41: 262579.33 | C41: 128336.76 | D41: 134242.57 | E41: 8026.0132 | F41: 4299.8726 | G41: 18127.58 | H41: 47779.241 | I41: 184346.62
A42: ESPECIALIDAD MÉDICA U ODONTOLÓGICA | B42: 23734.372 | C42: 12252.1 | D42: 11482.272 | E42: - | F42: 210.31236 | G42: 354.86548 | H42: 3710.9392 | I42: 19458.255
A43: DOCTORADO | B43: 37112.172 | C43: 16244.404 | D43: 20867.768 | E43: 263.64367 | F43: 456.28533 | G43: 1080.1203 | H43: 9283.3321 | I43: 26028.79
A44: NO SABE / NO RESPONDE | B44: 21157.014 | C44: 8907.9397 | D44: 10603.143 | E44: 7905.2792 | F44: 6765.2668 | G44: 2321.0505 | H44: 2701.4476 | I44: 1463.9702
A46: ESTUDIA ACTUALMENTE
A47: TOTAL | B47: 13063825 | C47: 6647382.8 | D47: 6413453 | E47: 3197317.3 | F47: 2904540 | G47: 2597378.9 | H47: 2332266.6 | I47: 2032322.2
A48: SÍ | B48: 3861759.7 | C48: 1834534.4 | D48: 2027113.5 | E48: 1180557.2 | F48: 869219.46 | G48: 666466.66 | H48: 598158.16 | I48: 547358.21
A49: NO | B49: 9193809.1 | C49: 4810152.6 | D49: 4382424.9 | E49: 2013324.9 | F49: 2033977.4 | G49: 1929164.6 | H49: 1733450 | I49: 1483892.2
A50: NO SABE / NO RESPONDE | B50: 8256.2616 | C50: 2695.7064 | D50: 3914.6237 | E50: 3435.17 | F50: 1343.0887 | G50: 1747.6979 | H50: 658.45312 | I50: 1071.8519
...

Sheet CUADRO 1B
A1: CUADRO 1B | J1: ÍNDICE
A2: POBLACIÓN TOTAL SEGÚN EDAD, NIVEL EDUCACIONAL, SI ESTUDIA ACTUALMENTE Y LA DEPENDENCIA DEL ESTABLECIMIENTO EDUCACIONAL, POR SEXO Y QUINTIL DE HOGARES ORDENADOS DE ACUERDO AL INGRESO DISPONIBLE PER CÁPITA PROMEDIO MENSUAL DEL HOGAR. MACROZONA NORTE (EXCLUYE ARRIENDO IMPUTADO)
A4: CARACTERÍSTICAS DE LA POBLACIÓN | B4: MACROZONA NORTE | G4: GRUPO QUINTIL(1)(2)
B5: TOTAL | C5: MUJERES | D5: HOMBRES | E5: I | F5: II | G5: III | H5: IV | I5: V
A7: GRUPOS DE EDAD
A8: TOTAL | B8: 1686982 | C8: 855022.21 | D8: 830891.78 | E8: 420906.14 | F8: 357794.25 | G8: 335090.32 | H8: 312387.21 | I8: 260804.09
A9: 0 - 4 | B9: 88694.043 | C9: 40486.359 | D9: 48207.684 | E9: 31415.503 | F9: 18987.3 | G9: 15783.733 | H9: 11982.736 | I9: 10524.771
A10: 5 - 9 | B10: 133026.28 | C10: 60969.83 | D10: 72056.449 | E10: 44279.931 | F10: 29305.791 | G10: 22927.789 | H10: 21100.198 | I10: 15412.57
A11: 10 - 14 | B11: 132026.64 | C11: 63127.015 | D11: 68899.626 | E11: 50094.61 | F11: 28774.78 | G11: 21732.544 | H11: 16207.447 | I11: 15217.26
A12: 15 - 19 | B12: 126767.84 | C12: 57366.164 | D12: 69184.797 | E12: 46220.98 | F12: 31105.638 | G12: 21430.433 | H12: 16672.763 | I12: 11338.026
A13: 20 - 24 | B13: 124900.12 | C13: 62315.933 | D13: 62584.185 | E13: 30745.531 | F13: 29798.654 | G13: 26722.869 | H13: 24290.654 | I13: 13342.41
A14: 25 - 29 | B14: 135101.81 | C14: 64664.86 | D14: 70436.949 | E14: 28049.547 | F14: 24247.833 | G14: 29566.577 | H14: 29565.511 | I14: 23672.341
A15: 30 - 34 | B15: 137498.85 | C15: 66814.243 | D15: 70684.61 | E15: 30899.003 | F15: 25032.8 | G15: 25161.732 | H15: 30361.114 | I15: 26044.204
A16: 35 - 39 | B16: 116624.03 | C16: 64291.33 | D16: 52332.696 | E16: 28826.269 | F16: 22747.429 | G16: 20136.968 | H16: 18422.252 | I16: 26491.108
A17: 40 - 44 | B17: 105605.21 | C17: 52485.103 | D17: 53120.106 | E17: 24823.214 | F17: 20794.806 | G17: 19434.961 | H17: 18228.979 | I17: 22323.25
A18: 45 - 49 | B18: 105802.36 | C18: 61566.393 | D18: 44235.966 | E18: 21953.606 | F18: 22588.93 | G18: 20843.509 | H18: 21562.694 | I18: 18853.62
A19: 50 - 54 | B19: 101825.68 | C19: 55907.218 | D19: 45440.756 | E19: 18285.575 | F19: 20327.995 | G19: 22067.97 | H19: 18463.49 | I19: 22680.646
... A25: 80 o MÁS | B25: 41906.954 | C25: 25875.299 | D25: 16031.655 | E25: 4550.4025 | F25: 11588.7 | G25: 9852.0388 | H25: 10915.069 | I25: 5000.7435
A27: NIVEL EDUCACIONAL(3)
A28: TOTAL | B28: 1686982 | C28: 855022.21 | D28: 830891.78 | E28: 420906.14 | F28: 357794.25 | G28: 335090.32 | H28: 312387.21 | I28: 260804.09
A29: NUNCA ASISTIÓ(4) | B29: 66389.384 | C29: 29803.946 | D29: 36585.438 | E29: 24401.724 | F29: 15668.716 | G29: 11224.606 | H29: 8386.9639 | I29: 6707.3743
A30: EDUCACIÓN DIFERENCIAL | B30: 9856.9316 | C30: 3789.0868 | D30: 6067.8448 | E30: 2838.9045 | F30: 3315.7143 | G30: 1399.1772 | H30: 1588.6577 | I30: 714.47779
A31: EDUCACIÓN PREESCOLAR(5) | B31: 92595.306 | C31: 44273.568 | D31: 48321.739 | E31: 33555.011 | F31: 19001.758 | G31: 14746.011 | H31: 14742.375 | I31: 10550.152
A32: EDUCACIÓN BÁSICA | B32: 339198.16 | C32: 170211.08 | D32: 168821.83 | E32: 123390.6 | F32: 81485.121 | G32: 62142.936 | H32: 43438.294 | I32: 28741.208
A33: EDUCACIÓN PRIMARIA (SISTEMA ANTIGUO) | B33: 37406.777 | C33: 21464.608 | D33: 15942.169 | E33: 5492.4657 | F33: 11028.372 | G33: 10293.728 | H33: 8796.5661 | I33: 1795.645
A34: EDUCACIÓN MEDIA CIENTÍFICO HUMANISTA | B34: 426661.71 | C34: 216111.3 | D34: 210550.41 | E34: 117367.32 | F34: 104547.71 | G34: 96336.885 | H34: 70743.828 | I34: 37665.969
A35: EDUCACIÓN MEDIA TÉCNICO PROFESIONAL | B35: 199236.69 | C35: 96519.907 | D35: 102499.91 | E35: 56055.405 | F35: 43169.432 | G35: 45159.09 | H35: 39622.421 | I35: 15230.345
A36: EDUCACIÓN HUMANIDADES (SISTEMA ANTIGUO) | B36: 30291.687 | C36: 18228.384 | D36: 12063.302 | E36: 3590.2473 | F36: 8298.3763 | G36: 6117.8579 | H36: 8412.4767 | I36: 3872.7287
A37: EDUCACIÓN TÉCNICA COMERCIAL, INDUSTRIAL O NORMALISTA (SISTEMA ANTIGUO) | B37: 9504.0536 | C37: 5770.9012 | D37: 3733.1525 | E37: 1072.9078 | F37: 1527.2858 | G37: 3325.0905 | H37: 2259.9726 | I37: 1318.797
A38: EDUCACIÓN TÉCNICO SUPERIOR (MENOS DE 4 AÑOS) | B38: 143170.7 | C38: 75719.603 | D38: 67451.1 | E38: 20428.782 | F38: 25615.136 | G38: 31253.772 | H38: 36072.197 | I38: 29800.816
A39: EDUCACIÓN PROFESIONAL (CARRERA DE 4 AÑOS O MÁS) | B39: 298450.72 | C39: 157350.71 | D39: 141100.01 | E39: 30460.111 | F39: 41422.941 | G39: 50687.509 | H39: 71603.539 | I39: 104276.62
A40: DIPLOMADOS O POSTÍTULO | B40: 8821.7866 | C40: 5228.3825 | D40: 3593.4042 | E40: - | F40: 805.71592 | G40: 674.61236 | H40: 1751.5672 | I40: 5589.8911
A41: MAGÍSTER (DE UN AÑO O MÁS) | B41: 17226.398 | C41: 7607.292 | D41: 9619.106 | E41: 557.43962 | F41: 1427.8173 | G41: 732.59543 | H41: 2066.0347 | I41: 12442.511
A42: ESPECIALIDAD MÉDICA U ODONTOLÓGICA | B42: 1099.2725 | C42: 535.42676 | D42: 563.84572 | E42: - | F42: 210.31236 | G42: - | H42: 535.42676 | I42: 353.53335
A43: DOCTORADO | B43: 2169.5107 | C43: 637.25358 | D43: 1532.2571 | E43: - | F43: - | G43: 197.25032 | H43: 228.24171 | I43: 1744.0187
A44: NO SABE / NO RESPONDE | B44: 4902.9067 | C44: 1770.7658 | D44: 2446.2608 | E44: 1695.2195 | F44: 269.84239 | G44: 799.19825 | H44: 2138.6465 | I44: -
A46: ESTUDIA ACTUALMENTE
A47: TOTAL | B47: 1686982 | C47: 855022.21 | D47: 830891.78 | E47: 420906.14 | F47: 357794.25 | G47: 335090.32 | H47: 312387.21 | I47: 260804.09
A48: SÍ | B48: 532193.92 | C48: 257821.97 | D48: 274371.95 | E48: 167577.18 | F48: 119162.43 | G48: 89902.216 | H48: 82008.374 | I48: 73543.718
A49: NO | B49: 1153453.1 | C49: 597046.52 | D49: 556024.49 | E49: 252754.76 | F49: 238631.82 | G49: 244941.31 | H49: 229864.88 | I49: 187260.37
...

Sheet CUADRO 1C
A1: CUADRO 1C | J1: ÍNDICE
A2: POBLACIÓN TOTAL SEGÚN EDAD, NIVEL EDUCACIONAL, SI ESTUDIA ACTUALMENTE Y LA DEPENDENCIA DEL ESTABLECIMIENTO EDUCACIONAL, POR SEXO Y QUINTIL DE HOGARES ORDENADOS DE ACUERDO AL INGRESO DISPONIBLE PER CÁPITA PROMEDIO MENSUAL DEL HOGAR. GRAN SANTIAGO (EXCLUYE ARRIENDO IMPUTADO)
A4: CARACTERÍSTICAS DE LA POBLACIÓN | B4: GRAN SANTIAGO | G4: GRUPO QUINTIL(1)(2)
B5: TOTAL | C5: MUJERES /R | D5: HOMBRES /R | E5: I | F5: II | G5: III | H5: IV | I5: V
A7: GRUPOS DE EDAD
A8: TOTAL | B8: 7440518 | C8: 3768477 | D8: 3672041 | E8: 1858135.7 | F8: 1692892.7 | G8: 1429724.5 | H8: 1329582.9 | I8: 1130182.2
A9: 0 - 4 | B9: 388496.09 | C9: 175389.13 | D9: 213106.96 | E9: 149802.05 | F9: 84799.347 | G9: 52941.957 | H9: 58775.505 | I9: 42177.235
A10: 5 - 9 | B10: 456756.07 | C10: 217387.33 | D10: 239368.74 | E10: 165587.89 | F10: 112400.14 | G10: 68357.117 | H10: 61888.059 | I10: 48522.864
A11: 10 - 14 | B11: 504886.7 | C11: 221892.52 | D11: 282994.17 | E11: 187628.13 | F11: 123756.04 | G11: 74513.506 | H11: 63960.915 | I11: 55028.108
A12: 15 - 19 | B12: 548910.61 | C12: 256550.03 | D12: 292360.58 | E12: 184314.64 | F12: 135367.17 | G12: 90271.498 | H12: 81179.651 | I12: 57777.64
A13: 20 - 24 | B13: 577833.74 | C13: 279179.14 | D13: 298654.59 | E13: 139486.7 | F13: 154258.75 | G13: 117043.38 | H13: 97296.459 | I13: 69748.446
A14: 25 - 29 | B14: 589050.2 | C14: 273824.04 | D14: 315226.16 | E14: 130858.26 | F14: 125727.09 | G14: 113652.82 | H14: 123577.75 | I14: 95234.282
A15: 30 - 34 | B15: 622721.96 | C15: 314321.73 | D15: 308400.23 | E15: 133024.3 | F15: 123761.7 | G15: 109553.09 | H15: 125457.02 | I15: 130925.85
A16: 35 - 39 | B16: 548932.85 | C16: 265278.09 | D16: 283654.76 | E16: 110738.35 | F16: 107597.35 | G16: 85945.73 | H16: 107971.4 | I16: 136680.02
A17: 40 - 44 | B17: 520156.75 | C17: 273538.38 | D17: 246618.38 | E17: 104804.47 | F17: 103618.19 | G17: 105287.89 | H17: 93760.162 | I17: 112686.05
A18: 45 - 49 | B18: 490882.58 | C18: 265811.82 | D18: 225070.76 | E18: 104586.83 | F18: 101725.43 | G18: 90720.308 | H18: 94394.559 | I18: 99455.455
A19: 50 - 54 | B19: 483830.45 | C19: 265108.35 | D19: 218722.1 | E19: 104179.75 | F19: 97572.443 | G19: 108552.44 | H19: 93231.684 | I19: 80294.131
... A25: 80 o MÁS | B25: 171945.49 | C25: 106115.36 | D25: 65830.13 | E25: 37317.591 | F25: 45737.199 | G25: 45492.466 | H25: 30452.042 | I25: 12946.194
A27: NIVEL EDUCACIONAL(3)
A28: TOTAL | B28: 7440518 | C28: 3768477 | D28: 3672041 | E28: 1858135.7 | F28: 1692892.7 | G28: 1429724.5 | H28: 1329582.9 | I28: 1130182.2
A29: NUNCA ASISTIÓ(4) | B29: 288948.67 | C29: 141109.35 | D29: 147839.32 | E29: 109966.88 | F29: 74633.264 | G29: 41308.204 | H29: 41560.897 | I29: 21479.427
A30: EDUCACIÓN DIFERENCIAL | B30: 45738.291 | C30: 14130.392 | D30: 31607.899 | E30: 18891.794 | F30: 13560.377 | G30: 8577.6197 | H30: 4159.7796 | I30: 548.72038
A31: EDUCACIÓN PREESCOLAR(5) | B31: 338426.97 | C31: 161171.89 | D31: 177255.07 | E31: 140950.27 | F31: 63360.752 | G31: 44157.168 | H31: 44272.531 | I31: 45686.241
A32: EDUCACIÓN BÁSICA | B32: 1346775.5 | C32: 663517.95 | D32: 683257.54 | E32: 480284.26 | F32: 365541.55 | G32: 248053.66 | H32: 163600.18 | I32: 89295.834
A33: EDUCACIÓN PRIMARIA (SISTEMA ANTIGUO) | B33: 197924.02 | C33: 117812.21 | D33: 80111.809 | E33: 59978.124 | F33: 73717.021 | G33: 44575.421 | H33: 15737.175 | I33: 3916.2771
A34: EDUCACIÓN MEDIA CIENTÍFICO HUMANISTA | B34: 1579893.2 | C34: 785641.53 | D34: 794251.64 | E34: 451689.75 | F34: 435424 | G34: 359702.23 | H34: 238204.3 | I34: 94872.883
A35: EDUCACIÓN MEDIA TÉCNICO PROFESIONAL | B35: 745301.69 | C35: 384237.37 | D35: 361064.32 | E35: 233310.02 | F35: 226722.32 | G35: 153217.58 | H35: 95213.653 | I35: 36838.107
A36: EDUCACIÓN HUMANIDADES (SISTEMA ANTIGUO) | B36: 171526.15 | C36: 103882.84 | D36: 67643.311 | E36: 34945.955 | F36: 37644.689 | G36: 43634.149 | H36: 44738.232 | I36: 10563.124
A37: EDUCACIÓN TÉCNICA COMERCIAL, INDUSTRIAL O NORMALISTA (SISTEMA ANTIGUO) | B37: 27535.799 | C37: 15219.343 | D37: 12316.456 | E37: 3878.792 | F37: 6003.7083 | G37: 8805.856 | H37: 5817.5099 | I37: 3029.9332
A38: EDUCACIÓN TÉCNICO SUPERIOR (MENOS DE 4 AÑOS) | B38: 806224.88 | C38: 437166.72 | D38: 369058.16 | E38: 140554.95 | F38: 181169.7 | G38: 187053.4 | H38: 193486.47 | I38: 103960.36
A39: EDUCACIÓN PROFESIONAL (CARRERA DE 4 AÑOS O MÁS) | B39: 1568841.9 | C39: 787162.43 | D39: 781679.46 | E39: 174493.75 | F39: 202552.76 | G39: 266625.7 | H39: 420710.88 | I39: 504458.8
... A41: MAGÍSTER (DE UN AÑO O MÁS) | B41: 172855.12 | C41: 82077.59 | D41: 90777.527 | E41: 5622.6485 | F41: 3021.6283 | G41: 11107.425 | H41: 27005.072 | I41: 126098.34
A42: ESPECIALIDAD MÉDICA U ODONTOLÓGICA | B42: 16560.4 | C42: 8024.2993 | D42: 8536.1003 | E42: - | F42: - | G42: - | H42: 3278.9832 | I42: 13281.416
A43: DOCTORADO | B43: 24520.161 | C43: 11326.422 | D43: 13193.739 | E43: 149.02504 | F43: - | G43: 1335.4923 | H43: 7078.1354 | I43: 15957.508
A44: NO SABE / NO RESPONDE | B44: 8805.8016 | C44: 4509.8075 | D44: 4295.9941 | E44: 1854.0239 | F44: 4490.0998 | G44: 465.56805 | H44: 1557.4336 | I44: 438.67619
A46: ESTUDIA ACTUALMENTE
A47: TOTAL | B47: 7440518 | C47: 3768477 | D47: 3672041 | E47: 1858135.7 | F47: 1692892.7 | G47: 1429724.5 | H47: 1329582.9 | I47: 1130182.2
A48: SÍ | B48: 2144446.4 | C48: 1007315.1 | D48: 1137131.4 | E48: 680134.16 | F48: 482587.23 | G48: 334164.61 | H48: 336504.61 | I48: 311055.84
A49: NO | B49: 5291802 | C49: 2758619.9 | D49: 2533182.1 | E49: 1176912 | F49: 1208962.4 | G49: 1094895 | H49: 992978.16 | I49: 818054.49
A50: NO SABE / NO RESPONDE | B50: 4269.5534 | C50: 2541.9884 | D50: 1727.565 | E50: 1089.5526 | F50: 1343.0887 | G50: 664.90425 | H50: 100.15595 | I50: 1071.8519
...

Sheet CUADRO 1D
A1: CUADRO 1D | J1: ÍNDICE
A2: POBLACIÓN TOTAL SEGÚN EDAD, NIVEL EDUCACIONAL, SI ESTUDIA ACTUALMENTE Y LA DEPENDENCIA DEL ESTABLECIMIENTO EDUCACIONAL, POR SEXO Y QUINTIL DE HOGARES ORDENADOS DE ACUERDO AL INGRESO DISPONIBLE PER CÁPITA PROMEDIO MENSUAL DEL HOGAR. MACROZONA CENTRO (EXCLUYE ARRIENDO IMPUTADO)
A4: CARACTERÍSTICAS DE LA POBLACIÓN | B4: MACROZONA CENTRO | G4: GRUPO QUINTIL(1)(2)
B5: TOTAL | C5: MUJERES | D5: HOMBRES | E5: I | F5: II | G5: III | H5: IV | I5: V
A7: GRUPOS DE EDAD
A8: TOTAL | B8: 2942892 | C8: 1513071.5 | D8: 1428198.2 | E8: 720061.64 | F8: 633890.13 | G8: 594583.17 | H8: 523772.36 | I8: 470584.7
A9: 0 - 4 | B9: 138607.48 | C9: 67424.802 | D9: 71182.679 | E9: 49046.427 | F9: 31260.431 | G9: 21783.526 | H9: 13845.896 | I9: 22671.2
A10: 5 - 9 | B10: 199325.59 | C10: 96158.371 | D10: 103167.22 | E10: 63541.774 | F10: 45160.017 | G10: 39715.185 | H10: 26690.26 | I10: 24218.352
A11: 10 - 14 | B11: 200288.93 | C11: 87967.333 | D11: 112321.59 | E11: 74625.022 | F11: 46988.051 | G11: 31355.272 | H11: 27229.397 | I11: 20091.184
A12: 15 - 19 | B12: 205513.49 | C12: 90080.25 | D12: 115433.24 | E12: 60451.009 | F12: 54527.047 | G12: 38181.286 | H12: 30328.632 | I12: 22025.516
A13: 20 - 24 | B13: 241896.25 | C13: 110997.65 | D13: 130898.6 | E13: 74425.944 | F13: 51944.145 | G13: 50980.265 | H13: 41710.347 | I13: 22835.545
A14: 25 - 29 | B14: 224767.36 | C14: 114741.74 | D14: 109603.17 | E14: 49123.194 | F14: 46891.126 | G14: 48207.36 | H14: 41001.861 | I14: 39543.82
A15: 30 - 34 | B15: 218445.11 | C15: 114153.44 | D15: 104179.95 | E15: 46479.675 | F15: 37053.361 | G15: 43363.37 | H15: 35395.425 | I15: 56153.28
A16: 35 - 39 | B16: 188978.81 | C16: 100156.4 | D16: 87734.352 | E16: 38002.826 | F16: 39094.996 | G16: 31730.851 | H16: 33387.949 | I16: 46762.183
A17: 40 - 44 | B17: 183568.18 | C17: 101461.47 | D17: 82106.706 | E17: 32233.694 | F17: 39649.444 | G17: 37048.72 | H17: 31606.186 | I17: 43030.132
A18: 45 - 49 | B18: 186109.2 | C18: 102543.16 | D18: 83566.031 | E18: 42352.603 | F18: 40668.889 | G18: 38724.085 | H18: 34449.438 | I18: 29914.18
A19: 50 - 54 | B19: 208843.01 | C19: 110781.63 | D19: 98061.386 | E19: 46270.879 | F19: 41819.757 | G19: 36661.277 | H19: 48284.185 | I19: 35806.914
... A25: 80 o MÁS | B25: 86675.709 | C25: 57626.703 | D25: 29049.006 | E25: 12568.843 | F25: 20546.67 | G25: 21199.834 | H25: 23649.537 | I25: 8710.8251
A27: NIVEL EDUCACIONAL(3)
A28: TOTAL | B28: 2942892 | C28: 1513071.5 | D28: 1428198.2 | E28: 720061.64 | F28: 633890.13 | G28: 594583.17 | H28: 523772.36 | I28: 470584.7
A29: NUNCA ASISTIÓ(4) | B29: 107204.7 | C29: 56320.994 | D29: 50883.701 | E29: 39577.265 | F29: 27008.604 | G29: 17578.563 | H29: 12941.298 | I29: 10098.965
A30: EDUCACIÓN DIFERENCIAL | B30: 17835.246 | C30: 5677.2301 | D30: 12158.016 | E30: 6437.0898 | F30: 4562.7518 | G30: 4877.6096 | H30: 1261.6666 | I30: 696.12807
A31: EDUCACIÓN PREESCOLAR(5) | B31: 144392.77 | C31: 68565.314 | D31: 75827.454 | E31: 45638.997 | F31: 32484.127 | G31: 24595.244 | H31: 16808.95 | I31: 24865.45
A32: EDUCACIÓN BÁSICA | B32: 590920.17 | C32: 291924.61 | D32: 298995.55 | E32: 212342.29 | F32: 148528.94 | G32: 108903.08 | H32: 80977.905 | I32: 40167.949
A33: EDUCACIÓN PRIMARIA (SISTEMA ANTIGUO) | B33: 61759.949 | C33: 41332.019 | D33: 20427.931 | E33: 9608.3275 | F33: 16947.75 | G33: 21967.659 | H33: 10716.728 | I33: 2519.4852
A34: EDUCACIÓN MEDIA CIENTÍFICO HUMANISTA | B34: 711864.85 | C34: 364379.52 | D34: 347485.33 | E34: 197773.17 | F34: 185598.79 | G34: 161596.17 | H34: 112002.48 | I34: 54894.239
A35: EDUCACIÓN MEDIA TÉCNICO PROFESIONAL | B35: 269407.37 | C35: 124579.42 | D35: 144827.95 | E35: 75110.05 | F35: 66250.683 | G35: 57439.523 | H35: 44659.321 | I35: 25947.794
A36: EDUCACIÓN HUMANIDADES (SISTEMA ANTIGUO) | B36: 60595.801 | C36: 37177.426 | D36: 23418.375 | E36: 9207.8869 | F36: 13433.61 | G36: 13772.449 | H36: 17158.412 | I36: 7023.4428
A37: EDUCACIÓN TÉCNICA COMERCIAL, INDUSTRIAL O NORMALISTA (SISTEMA ANTIGUO) | B37: 13692.247 | C37: 5942.0862 | D37: 7750.161 | E37: 247.95196 | F37: 1959.3896 | G37: 2938.3172 | H37: 5431.0725 | I37: 3115.516
A38: EDUCACIÓN TÉCNICO SUPERIOR (MENOS DE 4 AÑOS) | B38: 310087.96 | C38: 169648.35 | D38: 140439.61 | E38: 45417.494 | F38: 66109.993 | G38: 70611.233 | H38: 73638.752 | I38: 54310.486
A39: EDUCACIÓN PROFESIONAL (CARRERA DE 4 AÑOS O MÁS) | B39: 555203.76 | C39: 292845.63 | D39: 261695.96 | E39: 73136.209 | F39: 67001.01 | G39: 104839.96 | H39: 127893.2 | I39: 182333.38
... A41: MAGÍSTER (DE UN AÑO O MÁS) | B41: 53204.575 | C41: 28564.904 | D41: 24639.672 | E41: 1672.2653 | F41: 758.96804 | G41: 2917.7483 | H41: 13315.403 | I41: 34540.19
A42: ESPECIALIDAD MÉDICA U ODONTOLÓGICA | B42: 4036.4222 | C42: 2759.4109 | D42: 1277.0113 | E42: - | F42: - | G42: - | H42: - | I42: 4036.4222
A43: DOCTORADO | B43: 6982.6961 | C43: 3329.4447 | D43: 3653.2514 | E43: 114.61864 | F43: 259.035 | G43: 164.46459 | H43: 968.08224 | I43: 5476.4956
A44: NO SABE / NO RESPONDE | B44: 6398.5369 | C44: 2077.0848 | D44: 3361.4006 | E44: 3632.944 | F44: 1557.8417 | G44: 539.10015 | H44: 441.59537 | I44: 227.05565
A46: ESTUDIA ACTUALMENTE
A47: TOTAL | B47: 2942892 | C47: 1513071.5 | D47: 1428198.2 | E47: 720061.64 | F47: 633890.13 | G47: 594583.17 | H47: 523772.36 | I47: 470584.7
A48: SÍ | B48: 882018.67 | C48: 422214.3 | D48: 459692.66 | E48: 258077.09 | F48: 195518.37 | G48: 160018.47 | H48: 139164.67 | I48: 129240.07
A49: NO | B49: 2058587 | C49: 1090857.2 | D49: 967179.28 | E49: 460804.39 | F49: 437877.03 | G49: 434151.3 | H49: 384409.62 | I49: 341344.64
A50: NO SABE / NO RESPONDE | B50: 2286.3465 | C50: - | D50: 1326.295 | E50: 1180.1534 | F50: 494.73373 | G50: 413.39447 | H50: 198.06483 | I50: -
...

Sheet CUADRO 1E
A1: CUADRO 1E | J1: ÍNDICE
A2: POBLACIÓN TOTAL SEGÚN EDAD, NIVEL EDUCACIONAL, SI ESTUDIA ACTUALMENTE Y LA DEPENDENCIA DEL ESTABLECIMIENTO EDUCACIONAL, POR SEXO Y QUINTIL DE HOGARES ORDENADOS DE ACUERDO AL INGRESO DISPONIBLE PER CÁPITA PROMEDIO MENSUAL DEL HOGAR. MACROZONA SUR (EXCLUYE ARRIENDO IMPUTADO)
A4: CARACTERÍSTICAS DE LA POBLACIÓN | B4: MACROZONA SUR | G4: GRUPO QUINTIL(1)(2)
B5: TOTAL | C5: MUJERES | D5: HOMBRES | E5: I | F5: II | G5: III | H5: IV | I5: V
A7: GRUPOS DE EDAD
A8: TOTAL | B8: 993433 | C8: 510812 | D8: 482321.99 | E8: 228640.76 | F8: 217851.98 | G8: 199765.68 | H8: 189395.05 | I8: 157779.52
A9: 0 - 4 | B9: 47004.112 | C9: 24226.643 | D9: 22777.469 | E9: 14848.028 | F9: 11010.127 | G9: 6415.1353 | H9: 8194.0829 | I9: 6536.7393
A10: 5 - 9 | B10: 63218.378 | C10: 32547.729 | D10: 30670.649 | E10: 17272.541 | F10: 14593.721 | G10: 11279.057 | H10: 11559.956 | I10: 8513.1025
A11: 10 - 14 | B11: 69393.701 | C11: 28676.415 | D11: 40717.286 | E11: 22023.713 | F11: 16530.172 | G11: 12010.195 | H11: 10997.711 | I11: 7831.91
A12: 15 - 19 | B12: 75587.489 | C12: 36045.65 | D12: 39541.839 | E12: 23939.998 | F12: 17977.905 | G12: 15736.003 | H12: 12058.082 | I12: 5875.5011
A13: 20 - 24 | B13: 79770.836 | C13: 38343.819 | D13: 41427.016 | E13: 22392.063 | F13: 18717.72 | G13: 16613.688 | H13: 14458.385 | I13: 7588.9799
A14: 25 - 29 | B14: 78843.814 | C14: 38404.298 | D14: 40439.516 | E14: 18118.441 | F14: 20205.394 | G14: 15678.129 | H14: 14088.678 | I14: 10753.172
A15: 30 - 34 | B15: 73534.515 | C15: 37923.68 | D15: 35610.835 | E15: 14016.093 | F15: 14106.477 | G15: 12877.54 | H15: 13257.058 | I15: 19277.347
A16: 35 - 39 | B16: 66622.048 | C16: 33281.871 | D16: 33340.178 | E16: 12828.006 | F16: 11024.527 | G16: 11554.478 | H16: 14296.667 | I16: 16918.37
A17: 40 - 44 | B17: 72738.452 | C17: 38545.227 | D17: 34193.225 | E17: 11095.76 | F17: 14568.347 | G17: 13420.928 | H17: 17104.789 | I17: 16548.629
A18: 45 - 49 | B18: 69942.448 | C18: 36214.898 | D18: 33727.55 | E18: 14603.87 | F18: 11784.649 | G18: 14381.039 | H18: 16175.45 | I18: 12997.441
A19: 50 - 54 | B19: 63042.996 | C19: 35363.742 | D19: 27679.254 | E19: 13127.012 | F19: 13955.544 | G19: 12505.378 | H19: 13390.43 | I19: 10064.632
... A25: 80 o MÁS | B25: 26291.301 | C25: 15350.145 | D25: 10941.157 | E25: 3981.8349 | F25: 7723.2276 | G25: 6493.7841 | H25: 5082.8803 | I25: 3009.5745
A27: NIVEL EDUCACIONAL(3)
A28: TOTAL | B28: 993433 | C28: 510812 | D28: 482321.99 | E28: 228640.76 | F28: 217851.98 | G28: 199765.68 | H28: 189395.05 | I28: 157779.52
A29: NUNCA ASISTIÓ(4) | B29: 34866.913 | C29: 20164.868 | D29: 14702.045 | E29: 11584.979 | F29: 9825.2509 | G29: 5019.2845 | H29: 5165.1756 | I29: 3272.2232
A30: EDUCACIÓN DIFERENCIAL | B30: 3529.1269 | C30: 1798.9948 | D30: 1730.1321 | E30: 591.23209 | F30: 1216.6139 | G30: 680.41854 | H30: 660.62885 | I30: 380.23352
A31: EDUCACIÓN PREESCOLAR(5) | B31: 49598.333 | C31: 25142.433 | D31: 24455.9 | E31: 14643.34 | F31: 10654.501 | G31: 8967.6618 | H31: 7939.1921 | I31: 7393.6381
A32: EDUCACIÓN BÁSICA | B32: 215892.45 | C32: 107939.73 | D32: 107802.73 | E32: 71605.277 | F32: 56908.681 | G32: 40715.58 | H32: 32024.047 | I32: 14638.865
A33: EDUCACIÓN PRIMARIA (SISTEMA ANTIGUO) | B33: 15951.376 | C33: 11031.192 | D33: 4920.184 | E33: 2865.3376 | F33: 5709.5463 | G33: 4551.8836 | H33: 2318.0406 | I33: 506.5678
A34: EDUCACIÓN MEDIA CIENTÍFICO HUMANISTA | B34: 216054.91 | C34: 107865.43 | D34: 108040.47 | E34: 56717.186 | F34: 53015.405 | G34: 52353.944 | H34: 39360.628 | I34: 14607.75
A35: EDUCACIÓN MEDIA TÉCNICO PROFESIONAL | B35: 104701.96 | C35: 51605.406 | D35: 53096.559 | E35: 28771.12 | F35: 25544.158 | G35: 23520.181 | H35: 18506.961 | I35: 8359.5454
A36: EDUCACIÓN HUMANIDADES (SISTEMA ANTIGUO) | B36: 18952.218 | C36: 10204.478 | D36: 8747.7398 | E36: 3734.4548 | F36: 4299.0526 | G36: 5551.214 | H36: 3438.6341 | I36: 1928.8627
A37: EDUCACIÓN TÉCNICA COMERCIAL, INDUSTRIAL O NORMALISTA (SISTEMA ANTIGUO) | B37: 3527.1743 | C37: 1788.8048 | D37: 1738.3696 | E37: 533.02055 | F37: 127.69406 | G37: 1055.6005 | H37: 1496.4759 | I37: 314.38333
A38: EDUCACIÓN TÉCNICO SUPERIOR (MENOS DE 4 AÑOS) | B38: 88347.865 | C38: 47900.487 | D38: 40447.378 | E38: 13422.493 | F38: 16582.448 | G38: 19934.61 | H38: 22553.652 | I38: 15854.662
A39: EDUCACIÓN PROFESIONAL (CARRERA DE 4 AÑOS O MÁS) | B39: 204886.78 | C39: 107090.35 | D39: 97796.425 | E39: 23474.903 | F39: 32783.631 | G39: 34934.613 | H39: 48668.983 | I39: 65024.65
... A41: MAGÍSTER (DE UN AÑO O MÁS) | B41: 19293.24 | C41: 10086.975 | D41: 9206.2651 | E41: 173.65974 | F41: 593.04611 | G41: 1428.843 | H41: 3805.6201 | I41: 13292.071
A42: ESPECIALIDAD MÉDICA U ODONTOLÓGICA | B42: 2038.2781 | C42: 932.96305 | D42: 1105.3151 | E42: - | F42: - | G42: 97.114755 | H42: - | I42: 1941.1634
A43: DOCTORADO | B43: 3439.8039 | C43: 951.28342 | D43: 2488.5205 | E43: - | F43: - | G43: - | H43: 478.18883 | I43: 2961.6151
A44: NO SABE / NO RESPONDE | B44: 1049.7692 | C44: 550.28165 | D44: 499.48759 | E44: 396.38882 | F44: 441.78305 | G44: 103.09877 | H44: 108.4986 | I44: -
A46: ESTUDIA ACTUALMENTE
A47: TOTAL | B47: 993433 | C47: 510812 | D47: 482321.99 | E47: 228640.76 | F47: 217851.98 | G47: 199765.68 | H47: 189395.05 | I47: 157779.52
A48: SÍ | B48: 303100.62 | C48: 147183.1 | D48: 155917.52 | E48: 82835.409 | F48: 69374.936 | G48: 53514.094 | H48: 54150.408 | I48: 43225.772
A49: NO | B49: 689966.95 | C49: 363628.9 | D49: 326039.05 | E49: 145708.82 | F49: 148477.05 | G49: 145982.7 | H49: 135244.64 | I49: 114553.75
A50: NO SABE / NO RESPONDE | B50: 365.42815 | C50: - | D50: 365.42815 | E50: 96.539422 | F50: - | G50: 268.88873 | H50: - | I50: -
...

Sheet CUADRO 2A
A1: CUADRO 2A | J1: ÍNDICE
A2: INGRESO DISPONIBLE Y GASTO PROMEDIO MENSUAL DEL HOGAR Y PER CÁPITA, SEGÚN CARACTERÍSTICAS DE PERSONA SUSTENTADORA PRINCIPAL Y DEL HOGAR (SEXO, EDAD, NIVEL EDUCACIONAL, CATEGORÍA OCUPACIONAL, TENENCIA DE LA VIVIENDA, TIPO DE VIVIENDA, SITUACIÓN PREVISIONAL Y DE SALUD Y NÚMERO DE PERSONAS EN EL HOGAR). TOTAL CAPITALES REGIONALES (EXCLUYE ARRIENDO IMPUTADO)
D4: TOTAL CAPITALES REGIONALES
A5: CARACTERÍSTICAS DE PERSONA SUSTENTADORA PRINCIPAL Y DEL HOGAR | B5: HOGARES | C5: GASTO PROMEDIO MENSUAL | E5: INGRESO DISPONIBLE PROMEDIO MENSUAL
C6: POR HOGAR | D6: PER CÁPITA | E6: POR HOGAR | F6: PER CÁPITA
A8: SEXO
A9: TOTAL | B9: 4420863.6 | C9: 1451782.2 | D9: 564680.21 | E9: 1413348.7 | F9: 555436.77
A10: HOMBRE | B10: 2525536.3 | C10: 1590266.9 | D10: 604721.78 | E10: 1580816.7 | F10: 610515.68
A11: MUJER | B11: 1892831.9 | C11: 1267298 | D11: 511190.62 | E11: 1190983.4 | F11: 482321.82
A13: GRUPOS DE EDAD
A14: TOTAL | B14: 4420863.6 | C14: 1451782.2 | D14: 564680.21 | E14: 1413348.7 | F14: 555436.77
A15: 15 - 19 | B15: 9127.2947 | C15: 995925.38 | D15: 607092.23 | E15: 511464.79 | F15: 299192.16
A16: 20 - 29 | B16: 362034.37 | C16: 1330862.7 | D16: 616129.45 | E16: 1114795.5 | F16: 515022.28
A17: 30 - 39 | B17: 904157.74 | C17: 1652383.2 | D17: 663570.78 | E17: 1573853.4 | F17: 645600.24
A18: 40 - 49 | B18: 964779.19 | C18: 1756976.2 | D18: 607850.51 | E18: 1682598.2 | F18: 594123.6
A19: 50 - 59 | B19: 936885.17 | C19: 1488522 | D19: 542248.01 | E19: 1498367.1 | F19: 550556.74
A20: 60 - 69 | B20: 677745.76 | C20: 1237297 | D20: 501641.08 | E20: 1273976.3 | F20: 516359.68
A21: 70 - 79 | B21: 409419.06 | C21: 921784.13 | D21: 420588.91 | E21: 967743.1 | F21: 440177.16
A22: 80 O MÁS | B22: 156715.02 | C22: 814029.15 | D22: 390214.71 | E22: 830611.54 | F22: 404652.61
A24: NIVEL EDUCACIONAL(1)
A25: TOTAL | B25: 4420863.6 | C25: 1451782.2 | D25: 564680.21 | E25: 1413348.7 | F25: 555436.77
A26: NUNCA ASISTIÓ(2) | B26: 33973.271 | C26: 580730.91 | D26: 222372.24 | E26: 620569.39 | F26: 260739.94
A27: EDUCACIÓN DIFERENCIAL | B27: 3843.2029 | C27: 461136.04 | D27: 177905.54 | E27: 477112.61 | F27: 218692.89
A28: EDUCACIÓN PREESCOLAR | B28: - | C28: - | D28: - | E28: - | F28: -
A29: EDUCACIÓN BÁSICA | B29: 501852.83 | C29: 846413.03 | D29: 292202.24 | E29: 793860.82 | F29: 272703.43
A30: EDUCACIÓN PRIMARIA (SISTEMA ANTIGUO) | B30: 163109.93 | C30: 716994.11 | D30: 308865.96 | E30: 717177.94 | F30: 308356.07
A31: EDUCACIÓN MEDIA CIENTÍFICO HUMANISTA | B31: 1015802 | C31: 1083576.2 | D31: 380987 | E31: 930676.81 | F31: 326601.32
A32: EDUCACIÓN MEDIA TÉCNICO PROFESIONAL | B32: 510383.56 | C32: 1218135.3 | D32: 412729.32 | E32: 1099236 | F32: 376752.23
A33: EDUCACIÓN HUMANIDADES (SISTEMA ANTIGUO) | B33: 149111.69 | C33: 836602.87 | D33: 386747.2 | E33: 841022.95 | F33: 382604.09
A34: EDUCACIÓN TÉCNICA COMERCIAL, INDUSTRIAL O NORMALISTA (SISTEMA ANTIGUO) | B34: 32627.954 | C34: 954748.09 | D34: 456288.48 | E34: 890322.43 | F34: 444835.53
A35: EDUCACIÓN TÉCNICO SUPERIOR (MENOS DE 4 AÑOS) | B35: 610630.52 | C35: 1448661 | D35: 550465.92 | E35: 1329036.8 | F35: 516762.14
A36: EDUCACIÓN PROFESIONAL (CARRERA DE 4 AÑOS O MÁS) | B36: 1077974.9 | C36: 1991667.7 | D36: 831988.27 | E36: 2014764 | F36: 845037.11
A37: DIPLOMADOS O POSTÍTULO | B37: 94591.591 | C37: 2817455.3 | D37: 1255132.5 | E37: 2673229.4 | F37: 1156291
A38: MAGÍSTER (DE UN AÑO O MÁS) | B38: 175684.29 | C38: 3015794.6 | D38: 1200912 | E38: 3619241.9 | F38: 1465473.6
A39: ESPECIALIDAD MÉDICA U ODONTOLÓGICA | B39: 15981.759 | C39: 3535587.1 | D39: 1449701.3 | E39: 4454128 | F39: 1733065.6
A40: DOCTORADO | B40: 26466.133 | C40: 3113916.4 | D40: 1199894.1 | E40: 3743026.4 | F40: 1496756.8
A41: NO SABE / NO RESPONDE | B41: 8829.8998 | C41: 1106888.5 | D41: 370867.67 | E41: 756680.92 | F41: 273718.77
A43: CATEGORÍA EN LA OCUPACIÓN /R
A44: TOTAL | B44: 4420863.6 | C44: 1451782.2 | D44: 564680.21 | E44: 1413348.7 | F44: 555436.77
A45: OCUPADO | B45: 3482305.1 | C45: 1586059.4 | D45: 606703.93 | E45: 1585112.1 | F45: 615719.22
...

Sheet CUADRO 2B
A1: CUADRO 2B | J1: ÍNDICE
A2: INGRESO DISPONIBLE Y GASTO PROMEDIO MENSUAL DEL HOGAR Y PER CÁPITA, SEGÚN CARACTERÍSTICAS DE PERSONA SUSTENTADORA PRINCIPAL Y DEL HOGAR (SEXO, EDAD, NIVEL EDUCACIONAL, CATEGORÍA OCUPACIONAL, TENENCIA DE LA VIVIENDA, TIPO DE VIVIENDA, SITUACIÓN PREVISIONAL Y DE SALUD Y NÚMERO DE PERSONAS EN EL HOGAR). MACROZONA NORTE (EXCLUYE ARRIENDO IMPUTADO)
D4: MACROZONA NORTE
A5: CARACTERÍSTICAS DE PERSONA SUSTENTADORA PRINCIPAL Y DEL HOGAR | B5: HOGARES | C5: GASTO PROMEDIO MENSUAL | E5: INGRESO DISPONIBLE PROMEDIO MENSUAL
C6: POR HOGAR | D6: PER CÁPITA | E6: POR HOGAR | F6: PER CÁPITA
A8: SEXO
A9: TOTAL | B9: 535451.32 | C9: 1325057 | D9: 478646.33 | E9: 1241219.7 | F9: 456972.17
A10: HOMBRE | B10: 313877.12 | C10: 1411919.1 | D10: 498602.17 | E10: 1340993.5 | F10: 490981.45
A11: MUJER | B11: 220888.32 | C11: 1200785 | D11: 450202.78 | E11: 1101291.5 | F11: 409395.47
A13: GRUPOS DE EDAD
A14: TOTAL | B14: 535451.32 | C14: 1325057 | D14: 478646.33 | E14: 1241219.7 | F14: 456972.17
A15: 15 - 19 | B15: 1103.7659 | C15: 714169.98 | D15: 249725.35 | E15: 553478.06 | F15: 179121.06
A16: 20 - 29 | B16: 44354.052 | C16: 1173532.6 | D16: 495265.5 | E16: 1051355.8 | F16: 447924.4
A17: 30 - 39 | B17: 114751.43 | C17: 1568805.8 | D17: 538012.82 | E17: 1318895.1 | F17: 463592.24
A18: 40 - 49 | B18: 117996.6 | C18: 1570795.4 | D18: 529871.73 | E18: 1400947.6 | F18: 493042.27
A19: 50 - 59 | B19: 112244.93 | C19: 1385735.6 | D19: 484481.43 | E19: 1389628.3 | F19: 491754.66
A20: 60 - 69 | B20: 79626.823 | C20: 1027877.4 | D20: 408369.75 | E20: 1095987.6 | F20: 426482.98
A21: 70 - 79 | B21: 46436.675 | C21: 858055.55 | D21: 363528.3 | E21: 923449.4 | F21: 386487.62
A22: 80 O MÁS | B22: 18937.039 | C22: 742429.96 | D22: 317342.08 | E22: 770295.67 | F22: 324366.64
A24: NIVEL EDUCACIONAL(1)
A25: TOTAL | B25: 535451.32 | C25: 1325057 | D25: 478646.33 | E25: 1241219.7 | F25: 456972.17
A26: NUNCA ASISTIÓ(2) | B26: 4946.3552 | C26: 507221.06 | D26: 224918.01 | E26: 671870.85 | F26: 282831.07
A27: EDUCACIÓN DIFERENCIAL | B27: 312.31874 | C27: 731953.51 | D27: 279822.75 | E27: 610249.47 | F27: 258424.53
A28: EDUCACIÓN PREESCOLAR | B28: - | C28: - | D28: - | E28: - | F28: -
A29: EDUCACIÓN BÁSICA | B29: 61039.009 | C29: 854043.59 | D29: 276130.19 | E29: 744244.05 | F29: 246948
A30: EDUCACIÓN PRIMARIA (SISTEMA ANTIGUO) | B30: 16593.512 | C30: 722178.83 | D30: 296798.7 | E30: 768022.06 | F30: 307735.3
A31: EDUCACIÓN MEDIA CIENTÍFICO HUMANISTA | B31: 144182.29 | C31: 1096598.6 | D31: 361142.88 | E31: 969583.35 | F31: 318719.07
A32: EDUCACIÓN MEDIA TÉCNICO PROFESIONAL | B32: 80976.999 | C32: 1165394.9 | D32: 390364.3 | E32: 1044348.7 | F32: 355347.52
A33: EDUCACIÓN HUMANIDADES (SISTEMA ANTIGUO) | B33: 15263.208 | C33: 716571.25 | D33: 317066.78 | E33: 772894.47 | F33: 341598.78
A34: EDUCACIÓN TÉCNICA COMERCIAL, INDUSTRIAL O NORMALISTA (SISTEMA ANTIGUO) | B34: 4901.3992 | C34: 1019535.5 | D34: 326943.42 | E34: 1006569.9 | F34: 363512.7
A35: EDUCACIÓN TÉCNICO SUPERIOR (MENOS DE 4 AÑOS) | B35: 64867.932 | C35: 1459287.3 | D35: 530469.72 | E35: 1297919.9 | F35: 481908.85
A36: EDUCACIÓN PROFESIONAL (CARRERA DE 4 AÑOS O MÁS) | B36: 120592.05 | C36: 1875354.4 | D36: 707165.24 | E36: 1831273.6 | F36: 709446.48
A37: DIPLOMADOS O POSTÍTULO | B37: 4382.4493 | C37: 2608777.8 | D37: 1095321.8 | E37: 2385890.1 | F37: 979969.45
A38: MAGÍSTER (DE UN AÑO O MÁS) | B38: 13290.885 | C38: 2419589.2 | D38: 1135783.9 | E38: 2713458.2 | F38: 1250622.6
A39: ESPECIALIDAD MÉDICA U ODONTOLÓGICA | B39: 888.96011 | C39: 3492617.7 | D39: 1158209.6 | E39: 3403057.6 | F39: 1021448.3
A40: DOCTORADO | B40: 1570.7298 | C40: 2538913 | D40: 1058341.2 | E40: 3767256.2 | F40: 1389157.4
A41: NO SABE / NO RESPONDE | B41: 1643.2237 | C41: 1667528.1 | D41: 555407.7 | E41: 814303.61 | F41: 293297.83
A43: CATEGORÍA EN LA OCUPACIÓN /R
A44: TOTAL | B44: 535451.32 | C44: 1325057 | D44: 478646.33 | E44: 1241219.7 | F44: 456972.17
A45: OCUPADO | B45: 416868.47 | C45: 1439219.2 | D45: 512159.89 | E45: 1373967.5 | F45: 501386.83
...

Sheet CUADRO 2C
A1: CUADRO 2C | J1: ÍNDICE
A2: INGRESO DISPONIBLE Y GASTO PROMEDIO MENSUAL DEL HOGAR Y PER CÁPITA, SEGÚN CARACTERÍSTICAS DE PERSONA SUSTENTADORA PRINCIPAL Y DEL HOGAR (SEXO, EDAD, NIVEL EDUCACIONAL, CATEGORÍA OCUPACIONAL, TENENCIA DE LA VIVIENDA, TIPO DE VIVIENDA, SITUACIÓN PREVISIONAL Y DE SALUD Y NÚMERO DE PERSONAS EN EL HOGAR). GRAN SANTIAGO (EXCLUYE ARRIENDO IMPUTADO)
D4: GRAN SANTIAGO
A5: CARACTERÍSTICAS DE PERSONA SUSTENTADORA PRINCIPAL Y DEL HOGAR | B5: HOGARES | C5: GASTO PROMEDIO MENSUAL | E5: INGRESO DISPONIBLE PROMEDIO MENSUAL
C6: POR HOGAR | D6: PER CÁPITA | E6: POR HOGAR | F6: PER CÁPITA
A8: SEXO
A9: TOTAL | B9: 2492867.7 | C9: 1590105.1 | D9: 618643.19 | E9: 1578833 | F9: 621623.52
A10: HOMBRE | B10: 1427758.8 | C10: 1764345.8 | D10: 673797.41 | E10: 1790514.6 | F10: 692832.06
A11: MUJER | B11: 1065108.8 | C11: 1356538.7 | D11: 544709.97 | E11: 1295077.7 | F11: 526169.78
A13: GRUPOS DE EDAD
A14: TOTAL | B14: 2492867.7 | C14: 1590105.1 | D14: 618643.19 | E14: 1578833 | F14: 621623.52
A15: 15 - 19 | B15: 6621.3853 | C15: 1098288.1 | D15: 706302.05 | E15: 537030.03 | F15: 337155.68
A16: 20 - 29 | B16: 196391.53 | C16: 1458747.1 | D16: 669078.57 | E16: 1250788.8 | F16: 574486.04
A17: 30 - 39 | B17: 533892.44 | C17: 1729573 | D17: 714288.39 | E17: 1712670.4 | F17: 726826.67
A18: 40 - 49 | B18: 564252.31 | C18: 1911225.2 | D18: 670047.82 | E18: 1868963 | F18: 667057.43
A19: 50 - 59 | B19: 517971.32 | C19: 1632459.1 | D19: 591138.63 | E19: 1692937 | F19: 618555.82
A20: 60 - 69 | B20: 369472.03 | C20: 1403904.7 | D20: 552320.38 | E20: 1454220.2 | F20: 575828.13
A21: 70 - 79 | B21: 228343.98 | C21: 1024012.4 | D21: 449900.73 | E21: 1045274.8 | F21: 460707.93
A22: 80 O MÁS | B22: 75922.674 | C22: 925245.76 | D22: 443825.73 | E22: 853557.04 | F22: 418664.6
A24: NIVEL EDUCACIONAL(1)
A25: TOTAL | B25: 2492867.7 | C25: 1590105.1 | D25: 618643.19 | E25: 1578833 | F25: 621623.52
A26: NUNCA ASISTIÓ(2) | B26: 12675.694 | C26: 592959.37 | D26: 212296.83 | E26: 632162.89 | F26: 277673.94
A27: EDUCACIÓN DIFERENCIAL | B27: 1621.432 | C27: 309130.33 | D27: 162605.93 | E27: 287803.44 | F27: 234343.46
A28: EDUCACIÓN PREESCOLAR | B28: - | C28: - | D28: - | E28: - | F28: -
A29: EDUCACIÓN BÁSICA | B29: 248788.6 | C29: 925528.12 | D29: 308902.25 | E29: 877989.87 | F29: 289690.01
A30: EDUCACIÓN PRIMARIA (SISTEMA ANTIGUO) | B30: 101197.16 | C30: 776041.5 | D30: 327799.62 | E30: 729582.43 | F30: 310543.95
A31: EDUCACIÓN MEDIA CIENTÍFICO HUMANISTA | B31: 532499.94 | C31: 1149890.8 | D31: 404002.03 | E31: 979492.42 | F31: 341721.23
A32: EDUCACIÓN MEDIA TÉCNICO PROFESIONAL | B32: 273626.6 | C32: 1255695.5 | D32: 416122.48 | E32: 1131444.1 | F32: 378898.62
A33: EDUCACIÓN HUMANIDADES (SISTEMA ANTIGUO) | B33: 87481.669 | C33: 938106.29 | D33: 407304.16 | E33: 905664.27 | F33: 386807.25
A34: EDUCACIÓN TÉCNICA COMERCIAL, INDUSTRIAL O NORMALISTA (SISTEMA ANTIGUO) | B34: 15812.766 | C34: 891428.33 | D34: 473127.28 | E34: 823076.8 | F34: 427413.79
A35: EDUCACIÓN TÉCNICO SUPERIOR (MENOS DE 4 AÑOS) | B35: 362333.93 | C35: 1509306.7 | D35: 571537.93 | E35: 1399156.7 | F35: 537635.57
A36: EDUCACIÓN PROFESIONAL (CARRERA DE 4 AÑOS O MÁS) | B36: 643171.98 | C36: 2125424.7 | D36: 897774.86 | E36: 2209295.9 | F36: 942479
A37: DIPLOMADOS O POSTÍTULO | B37: 67405.725 | C37: 3002633.9 | D37: 1314200.6 | E37: 2832831.1 | F37: 1195648
A38: MAGÍSTER (DE UN AÑO O MÁS) | B38: 114160.65 | C38: 3373889.5 | D38: 1264085.8 | E38: 4226400.7 | F38: 1644207.3
A39: ESPECIALIDAD MÉDICA U ODONTOLÓGICA | B39: 11544.582 | C39: 3397078.1 | D39: 1431817.1 | E39: 4086799.3 | F39: 1620207.9
A40: DOCTORADO | B40: 16313.996 | C40: 3003293.7 | D40: 1301462.3 | E40: 3615035.8 | F40: 1619612.7
A41: NO SABE / NO RESPONDE | B41: 4232.9546 | C41: 1270599.1 | D41: 459341.27 | E41: 979586.46 | F41: 374061.12
A43: CATEGORÍA EN LA OCUPACIÓN /R
A44: TOTAL | B44: 2492867.7 | C44: 1590105.1 | D44: 618643.19 | E44: 1578833 | F44: 621623.52
A45: OCUPADO | B45: 2027169.4 | C45: 1714065.3 | D45: 659829.42 | E45: 1751395.5 | F45: 684394.4
...

Sheet CUADRO 2D
A1: CUADRO 2D | J1: ÍNDICE
A2: INGRESO DISPONIBLE Y GASTO PROMEDIO MENSUAL DEL HOGAR Y PER CÁPITA, SEGÚN CARACTERÍSTICAS DE PERSONA SUSTENTADORA PRINCIPAL Y DEL HOGAR (SEXO, EDAD, NIVEL EDUCACIONAL, CATEGORÍA OCUPACIONAL, TENENCIA DE LA VIVIENDA, TIPO DE VIVIENDA, SITUACIÓN PREVISIONAL Y DE SALUD Y NÚMERO DE PERSONAS EN EL HOGAR). MACROZONA CENTRO (EXCLUYE ARRIENDO IMPUTADO)
D4: MACROZONA CENTRO
A5: CARACTERÍSTICAS DE PERSONA SUSTENTADORA PRINCIPAL Y DEL HOGAR | B5: HOGARES | C5: GASTO PROMEDIO MENSUAL | E5: INGRESO DISPONIBLE PROMEDIO MENSUAL
C6: POR HOGAR | D6: PER CÁPITA | E6: POR HOGAR | F6: PER CÁPITA
A8: SEXO
A9: TOTAL | B9: 1032044.8 | C9: 1254635.2 | D9: 495352.13 | E9: 1163409 | F9: 462685.11
A10: HOMBRE | B10: 586091.24 | C10: 1358453.1 | D10: 517902.71 | E10: 1282720.1 | F10: 496345.65
A11: MUJER | B11: 444443.01 | C11: 1118405.1 | D11: 464909.76 | E11: 1008328.9 | F11: 419012.71
A13: GRUPOS DE EDAD
A14: TOTAL | B14: 1032044.8 | C14: 1254635.2 | D14: 495352.13 | E14: 1163409 | F14: 462685.11
A15: 15 - 19 | B15: - | C15: - | D15: - | E15: - | F15: -
A16: 20 - 29 | B16: 88074.563 | C16: 1233120.5 | D16: 593379.07 | E16: 908460.5 | F16: 432247.65
A17: 30 - 39 | B17: 185573.86 | C17: 1505976.2 | D17: 604142.05 | E17: 1378207.3 | F17: 547391.22
A18: 40 - 49 | B18: 204103.43 | C18: 1540154 | D18: 509339.99 | E18: 1406013.1 | F18: 476465.6
A19: 50 - 59 | B19: 228379.32 | C19: 1295466.1 | D19: 479123.8 | E19: 1200469.2 | F19: 453675.98
A20: 60 - 69 | B20: 173638.46 | C20: 1057511 | D20: 445974.29 | E20: 1026296.7 | F20: 429026.2
A21: 70 - 79 | B21: 103724.41 | C21: 756694.2 | D21: 377612.47 | E21: 833700.71 | F21: 410833.99
A22: 80 O MÁS | B22: 47667.84 | C22: 707044.24 | D22: 347539.71 | E22: 812121.5 | F22: 413300.32
A24: NIVEL EDUCACIONAL(1)
A25: TOTAL | B25: 1032044.8 | C25: 1254635.2 | D25: 495352.13 | E25: 1163409 | F25: 462685.11
A26: NUNCA ASISTIÓ(2) | B26: 12626.985 | C26: 643272.64 | D26: 241821.05 | E26: 620668.21 | F26: 246478.69
A27: EDUCACIÓN DIFERENCIAL | B27: 1713.169 | C27: 581042.16 | D27: 180477.85 | E27: 618273.35 | F27: 187491.39
A28: EDUCACIÓN PREESCOLAR | B28: - | C28: - | D28: - | E28: - | F28: -
A29: EDUCACIÓN BÁSICA | B29: 134876.89 | C29: 762937.36 | D29: 275484.92 | E29: 702171.22 | F29: 255260.73
A30: EDUCACIÓN PRIMARIA (SISTEMA ANTIGUO) | B30: 36231.779 | C30: 592399.54 | D30: 271448.08 | E30: 668834.42 | F30: 301320.24
A31: EDUCACIÓN MEDIA CIENTÍFICO HUMANISTA | B31: 256392.52 | C31: 974282.85 | D31: 346764.33 | E31: 813701.51 | F31: 295324.15
A32: EDUCACIÓN MEDIA TÉCNICO PROFESIONAL | B32: 113534.92 | C32: 1219739.9 | D32: 426111.98 | E32: 1079530 | F32: 380725.37
A33: EDUCACIÓN HUMANIDADES (SISTEMA ANTIGUO) | B33: 34450.253 | C33: 688496.12 | D33: 368961.29 | E33: 739519.73 | F33: 389985.81
A34: EDUCACIÓN TÉCNICA COMERCIAL, INDUSTRIAL O NORMALISTA (SISTEMA ANTIGUO) | B34: 9716.35 | C34: 991030.81 | D34: 482243.1 | E34: 904781.13 | F34: 513347.79
A35: EDUCACIÓN TÉCNICO SUPERIOR (MENOS DE 4 AÑOS) | B35: 143616.07 | C35: 1343125.2 | D35: 517102.54 | E35: 1199249.5 | F35: 485466.13
A36: EDUCACIÓN PROFESIONAL (CARRERA DE 4 AÑOS O MÁS) | B36: 226053.75 | C36: 1745265.7 | D36: 743157.16 | E36: 1657544 | F36: 683185.19
A37: DIPLOMADOS O POSTÍTULO | B37: 16312.543 | C37: 2212846.6 | D37: 1045738.8 | E37: 2111642.3 | F37: 988979.12
A38: MAGÍSTER (DE UN AÑO O MÁS) | B38: 35738.602 | C38: 2251477.4 | D38: 1002678.3 | E38: 2391461.3 | F38: 1060105.8
A39: ESPECIALIDAD MÉDICA U ODONTOLÓGICA | B39: 2167.644 | C39: 4272099.2 | D39: 1768064.4 | E39: 5916508.9 | F39: 2423050.6
A40: DOCTORADO | B40: 5887.3826 | C40: 4230182 | D40: 1157683.1 | E40: 4542866.5 | F40: 1299921
A41: NO SABE / NO RESPONDE | B41: 2725.8968 | C41: 579729.47 | D41: 142906.85 | E41: 361412.44 | F41: 103595.14
A43: CATEGORÍA EN LA OCUPACIÓN /R
A44: TOTAL | B44: 1032044.8 | C44: 1254635.2 | D44: 495352.13 | E44: 1163409 | F44: 462685.11
A45: OCUPADO | B45: 760016.18 | C45: 1399490 | D45: 534444.52 | E45: 1324980.4 | F45: 512648.55
...

Sheet CUADRO 2E
A1: CUADRO 2E | J1: ÍNDICE
A2: INGRESO DISPONIBLE Y GASTO PROMEDIO MENSUAL DEL HOGAR Y PER CÁPITA, SEGÚN CARACTERÍSTICAS DE PERSONA SUSTENTADORA PRINCIPAL Y DEL HOGAR (SEXO, EDAD, NIVEL EDUCACIONAL, CATEGORÍA OCUPACIONAL, TENENCIA DE LA VIVIENDA, TIPO DE VIVIENDA, SITUACIÓN PREVISIONAL Y DE SALUD Y NÚMERO DE PERSONAS EN EL HOGAR). MACROZONA SUR (EXCLUYE ARRIENDO IMPUTADO)
D4: MACROZONA SUR
A5: CARACTERÍSTICAS DE PERSONA SUSTENTADORA PRINCIPAL Y DEL HOGAR | B5: HOGARES | C5: GASTO PROMEDIO MENSUAL | E5: INGRESO DISPONIBLE PROMEDIO MENSUAL
C6: POR HOGAR | D6: PER CÁPITA | E6: POR HOGAR | F6: PER CÁPITA
A8: SEXO
A9: TOTAL | B9: 360499.87 | C9: 1247895.1 | D9: 517784.39 | E9: 1240214.6 | F9: 509534.02
A10: HOMBRE | B10: 197809.12 | C10: 1303630.3 | D10: 531767.96 | E10: 1331024.9 | F10: 544316.35
A11: MUJER | B11: 162391.74 | C11: 1179949 | D11: 500961.93 | E11: 1130141.5 | F11: 467191.88
A13: GRUPOS DE EDAD
A14: TOTAL | B14: 360499.87 | C14: 1247895.1 | D14: 517784.39 | E14: 1240214.6 | F14: 509534.02
A15: 15 - 19 | B15: - | C15: - | D15: - | E15: - | F15: -
A16: 20 - 29 | B16: 33214.226 | C16: 1043980.2 | D16: 524776.32 | E16: 942541.96 | F16: 472517.07
A17: 30 - 39 | B17: 69940.014 | C17: 1588741.5 | D17: 640102.45 | E17: 1451609.8 | F17: 584755.69
A18: 40 - 49 | B18: 78426.852 | C18: 1491602.2 | D18: 534056.8 | E18: 1485332.2 | F18: 527674.08
A19: 50 - 59 | B19: 78289.592 | C19: 1246751.9 | D19: 485744.16 | E19: 1235976 | F19: 467585.61
A20: 60 - 69 | B20: 55008.445 | C20: 988904.4 | D20: 471976.75 | E20: 1102808.1 | F20: 522706.23
A21: 70 - 79 | B21: 30913.999 | C21: 816329.71 | D21: 433988.35 | E21: 911342.35 | F21: 467630.32
A22: 80 O MÁS | B22: 14187.47 | C22: 673888.14 | D22: 343971.45 | E22: 850453.03 | F22: 407777.45
A24: NIVEL EDUCACIONAL(1)
A25: TOTAL | B25: 360499.87 | C25: 1247895.1 | D25: 517784.39 | E25: 1240214.6 | F25: 509534.02
A26: NUNCA ASISTIÓ(2) | B26: 3724.2368 | C26: 424695.8 | D26: 187342.44 | E26: 512638.86 | F26: 222116.11
A27: EDUCACIÓN DIFERENCIAL | B27: 196.28317 | C27: 239344.85 | D27: 119672.43 | E27: 597034.35 | F27: 298517.17
A28: EDUCACIÓN PREESCOLAR | B28: - | C28: - | D28: - | E28: - | F28: -
A29: EDUCACIÓN BÁSICA | B29: 57148.333 | C29: 690857.19 | D29: 276121.83 | E29: 697007.91 | F29: 267430.06
A30: EDUCACIÓN PRIMARIA (SISTEMA ANTIGUO) | B30: 9087.4786 | C30: 546740.31 | D30: 269242.37 | E30: 678948.41 | F30: 313177.46
A31: EDUCACIÓN MEDIA CIENTÍFICO HUMANISTA | B31: 82727.291 | C31: 972752.73 | D31: 373493.78 | E31: 911186.78 | F31: 339950.77
A32: EDUCACIÓN MEDIA TÉCNICO PROFESIONAL | B32: 42245.042 | C32: 1071636.3 | D32: 397655.22 | E32: 1048791.2 | F32: 393201.27
A33: EDUCACIÓN HUMANIDADES (SISTEMA ANTIGUO) | B33: 11916.559 | C33: 673359 | D33: 376502.47 | E33: 747182.21 | F33: 382928.88
A34: EDUCACIÓN TÉCNICA COMERCIAL, INDUSTRIAL O NORMALISTA (SISTEMA ANTIGUO) | B34: 2197.4387 | C34: 1105458.1 | D34: 508858.63 | E34: 1050999.8 | F34: 448654.62
A35: EDUCACIÓN TÉCNICO SUPERIOR (MENOS DE 4 AÑOS) | B35: 39812.587 | C35: 1260111.1 | D35: 511621.98 | E35: 1209758.9 | F35: 496475.09
